BEGIN:VCALENDAR
VERSION:2.0
PRODID:-//eventon.com NONSGML v1.0//EN
CALSCALE:GREGORIAN
METHOD:PUBLISH
BEGIN:VEVENT
UID:69e8ac145ec7c
DTSTAMP:20260422T110804Z
DTSTART:20241006T000000Z
DTEND:20241006T033000Z
LOCATION:
SUMMARY:正道35周年慶 感恩餐會
DESCRIPTION:正道35周年慶 感恩餐會\nhttps://www.les.edu/archives/ev
 ents/%e6%ad%a3%e9%81%9335%e5%91%a8%e5%b9%b4%e6%85%b6
URL:https://www.les.edu/archives/events/%e6%ad%a3%e9%81%9335%e5%91%a8%e5%b9%b4%e6%85%b6
END:VEVENT
END:VCALENDAR