BEGIN:VCALENDAR
VERSION:2.0
PRODID:-//eventon.com NONSGML v1.0//EN
CALSCALE:GREGORIAN
METHOD:PUBLISH
BEGIN:VEVENT
UID:69ecf5f903670
DTSTAMP:20260425T171225Z
DTSTART:20241116T010000Z
DTEND:20241116T020000Z
LOCATION:
SUMMARY:國際學生招生説明會
DESCRIPTION:鼓勵全球華人走出國門，來美國神學院接受裝備
 ！透過國際化的學習環境和專業師資，您將深化信仰、拓
 展視野，[..]\nhttps://www.les.edu/archives/events/%e5%9c%8b%e9%9a%9b%e5
 %ad%b8%e7%94%9f%e6%8b%9b%e7%94%9f%e8%aa%ac%e6%98%8e%e6%9c%83
URL:https://www.les.edu/archives/events/%e5%9c%8b%e9%9a%9b%e5%ad%b8%e7%94%9f%e6%8b%9b%e7%94%9f%e8%aa%ac%e6%98%8e%e6%9c%83
END:VEVENT
END:VCALENDAR